BEGIN:VCALENDAR
VERSION:2.0
PRODID:icalendar-ruby
CALSCALE:GREGORIAN
METHOD:PUBLISH
BEGIN:VEVENT
DTSTAMP:20260423T172204Z
UID:https://www.cyberneum.de/events/44179/23950
DTSTART:20260430T090000Z
DTEND:20260430T100000Z
CLASS:PUBLIC
CREATED:20251210T141855Z
DESCRIPTION:Vortragende: Prof. Mihaela Pavličev
LAST-MODIFIED:20260420T063231Z
LOCATION:MPH lecture hall\, Max-Planck-Ring 6
SUMMARY:DSSS - The mechanisms and their evolvability: linking the micro- to
  macroevolutionary biology 
URL;VALUE=URI:https://www.cyberneum.de/events/44179/23950
END:VEVENT
END:VCALENDAR
